BEGIN:VCALENDAR
VERSION:2.0
PRODID:-//Lily Ray - ECPv6.15.12.2//NONSGML v1.0//EN
CALSCALE:GREGORIAN
METHOD:PUBLISH
X-ORIGINAL-URL:https://lilyray.nyc
X-WR-CALDESC:Events for Lily Ray
REFRESH-INTERVAL;VALUE=DURATION:PT1H
X-Robots-Tag:noindex
X-PUBLISHED-TTL:PT1H
BEGIN:VTIMEZONE
TZID:America/New_York
BEGIN:DAYLIGHT
TZOFFSETFROM:-0500
TZOFFSETTO:-0400
TZNAME:EDT
DTSTART:20220313T070000
END:DAYLIGHT
BEGIN:STANDARD
TZOFFSETFROM:-0400
TZOFFSETTO:-0500
TZNAME:EST
DTSTART:20221106T060000
END:STANDARD
BEGIN:DAYLIGHT
TZOFFSETFROM:-0500
TZOFFSETTO:-0400
TZNAME:EDT
DTSTART:20230312T070000
END:DAYLIGHT
BEGIN:STANDARD
TZOFFSETFROM:-0400
TZOFFSETTO:-0500
TZNAME:EST
DTSTART:20231105T060000
END:STANDARD
BEGIN:DAYLIGHT
TZOFFSETFROM:-0500
TZOFFSETTO:-0400
TZNAME:EDT
DTSTART:20240310T070000
END:DAYLIGHT
BEGIN:STANDARD
TZOFFSETFROM:-0400
TZOFFSETTO:-0500
TZNAME:EST
DTSTART:20241103T060000
END:STANDARD
END:VTIMEZONE
BEGIN:VEVENT
DTSTART;VALUE=DATE:20230313
DTEND;VALUE=DATE:20230315
DTSTAMP:20260419T110450
CREATED:20230123T175607Z
LAST-MODIFIED:20230123T175607Z
UID:14326-1678665600-1678838399@lilyray.nyc
SUMMARY:SMX Paris 2023
DESCRIPTION:SMX Paris 2023 is a conference dedicated to techniques and tips regarding search marketing\, SEO and SEM. \nSMX Paris 2023 brings together: \n\nSEO / SMO / SEA professionals in agencies\nBusiness Search Marketing Experts\nWebmasters and site administrators\nMarketing managers and directors who want to better manage their service providers\n\nSMX Paris 2023 will be held in Paris on 13-14 March 2023.
URL:https://lilyray.nyc/event/smx-paris-2023/
LOCATION:Centre de conferences Etoile Saint Honore\, Paris\, France
CATEGORIES:SEO
END:VEVENT
END:VCALENDAR